BEGIN:VCALENDAR
VERSION:2.0
PRODID:spatie/icalendar-generator
DESCRIPTION:Veranstaltungen von Osnabrück Alternativ
X-WR-CALDESC:Veranstaltungen von Osnabrück Alternativ
REFRESH-INTERVAL;VALUE=DURATION:PT1440M
X-PUBLISHED-TTL:PT1440M
BEGIN:VTIMEZONE
TZID:Europe/Berlin
BEGIN:STANDARD
DTSTART:20251026T030000Z
TZOFFSETFROM:+0200
TZOFFSETTO:+0100
END:STANDARD
BEGIN:DAYLIGHT
DTSTART:20260329T020000Z
TZOFFSETFROM:+0100
TZOFFSETTO:+0200
END:DAYLIGHT
BEGIN:STANDARD
DTSTART:20261025T030000Z
TZOFFSETFROM:+0200
TZOFFSETTO:+0100
END:STANDARD
END:VTIMEZONE
BEGIN:VTIMEZONE
TZID:UTC
BEGIN:STANDARD
DTSTART:20250723T163942Z
TZOFFSETFROM:+0000
TZOFFSETTO:+0000
END:STANDARD
END:VTIMEZONE
BEGIN:VEVENT
UID:8565-2920
DTSTAMP:20260419T163942Z
SUMMARY:Klimastreik von FFF Osnabrück am 24.04.2026 gegen Gaslobby für En
 ergiewende
LOCATION:Platz der deutschen Einheit (Theatervorplatz)   Osnabrück  49074
ORGANIZER;CN=adminwp:MAILTO:klaus.schwietz@gmx.de
DTSTART;TZID=Europe/Berlin:20260424T140000
DTEND;TZID=Europe/Berlin:20260424T160000
X-ALT-DESC;FMTTYPE=TEXT/HTML:FFF-Demonstration in Osnabrück für den Fortb
 estand der Energiewende Fridays for Future Osnabrück ruft für den 24. Ap
 ril um 14 Uhr zu einer Kundgebung am Platz der Deutschen Einheit vor dem T
 heater auf. Ab 14:30 Uhr bewegt sich der Demozug u.a. über den Ring und z
 urück zum Theater. Unter dem Motto „Der Gas-Lobby in den Weg&amp;hellip\;
CATEGORIES:#allefürsklima.
URL;VALUE=URI:https://osnabrueck-alternativ.de/veranstaltungen/?mc_id=8565&amp;
 #038;vcal=8565
METHOD:PUBLISH
END:VEVENT
END:VCALENDAR