BEGIN:VCALENDAR
VERSION:2.0
PRODID:spatie/icalendar-generator
DESCRIPTION:Veranstaltungen von Osnabrück Alternativ
X-WR-CALDESC:Veranstaltungen von Osnabrück Alternativ
REFRESH-INTERVAL;VALUE=DURATION:PT1440M
X-PUBLISHED-TTL:PT1440M
BEGIN:VTIMEZONE
TZID:Europe/Berlin
BEGIN:STANDARD
DTSTART:20251026T030000Z
TZOFFSETFROM:+0200
TZOFFSETTO:+0100
END:STANDARD
BEGIN:DAYLIGHT
DTSTART:20260329T020000Z
TZOFFSETFROM:+0100
TZOFFSETTO:+0200
END:DAYLIGHT
BEGIN:STANDARD
DTSTART:20261025T030000Z
TZOFFSETFROM:+0200
TZOFFSETTO:+0100
END:STANDARD
END:VTIMEZONE
BEGIN:VTIMEZONE
TZID:UTC
BEGIN:STANDARD
DTSTART:20250723T170604Z
TZOFFSETFROM:+0000
TZOFFSETTO:+0000
END:STANDARD
END:VTIMEZONE
BEGIN:VEVENT
UID:8559-2915
DTSTAMP:20260419T170604Z
SUMMARY:GEDENKFEIER:  für die Queeren Opfer des Nationalsozialismus.
LOCATION:Raiffeisenplatz Raiffeisenplatz  Osnabrück
ORGANIZER;CN=adminwp:MAILTO:klaus.schwietz@gmx.de
DTSTART;TZID=Europe/Berlin:20260517T170000
DTEND;TZID=Europe/Berlin:20260517T200000
X-ALT-DESC;FMTTYPE=TEXT/HTML:Für die queeren Opfer des NS war der Sieg üb
 er das Naziregime\, am 8. Mai das Ende der Todes-drohung. Doch mit einem s
 chalen Beigeschmack\, jede Entschädigung für KZ-Haft\, Gesundheits- und 
 Berufsschäden wurde ihnen gesetzlich abgesprochen. Ihre Verfolgung\, ging
  in der BRD in unterschiedlicher Weise über Jahrzehnte weiter. Aus diesem
  Grund haben wir die Gedenkfeier auf&amp;hellip\;
CATEGORIES:Veranstaltung
URL;VALUE=URI:https://osnabrueck-alternativ.de/veranstaltungen/?mc_id=8559&amp;
 #038;vcal=8559
METHOD:PUBLISH
END:VEVENT
END:VCALENDAR