BEGIN:VCALENDAR
VERSION:2.0
PRODID:spatie/icalendar-generator
DESCRIPTION:Veranstaltungen von Osnabrück Alternativ
X-WR-CALDESC:Veranstaltungen von Osnabrück Alternativ
REFRESH-INTERVAL;VALUE=DURATION:PT1440M
X-PUBLISHED-TTL:PT1440M
BEGIN:VTIMEZONE
TZID:Europe/Berlin
BEGIN:STANDARD
DTSTART:20251026T030000Z
TZOFFSETFROM:+0200
TZOFFSETTO:+0100
END:STANDARD
BEGIN:DAYLIGHT
DTSTART:20260329T020000Z
TZOFFSETFROM:+0100
TZOFFSETTO:+0200
END:DAYLIGHT
END:VTIMEZONE
BEGIN:VTIMEZONE
TZID:UTC
BEGIN:STANDARD
DTSTART:20250728T165701Z
TZOFFSETFROM:+0000
TZOFFSETTO:+0000
END:STANDARD
END:VTIMEZONE
BEGIN:VEVENT
UID:8516-2875
DTSTAMP:20260424T165701Z
SUMMARY:Scientists4Future\, Vortragsreihe Wintersemester 25: Futtern for Fu
 ture – Ernährung und Lebensmittelauswahl im Kontext von Nachhaltigkeit 
 und planetaren Grenzen
LOCATION:Universität Osnabrück - Kolpingstrasse Kolpingstrasse 7  Osnabr
 ück  49074
ORGANIZER;CN=adminwp:MAILTO:klaus.schwietz@gmx.de
DTSTART;TZID=Europe/Berlin:20260107T183000
DTEND;TZID=Europe/Berlin:20260107T203000
X-ALT-DESC;FMTTYPE=TEXT/HTML:Vortrag am 07. Januar 2026\, 19:00 Uhr (18:30 
 Uhr Einlass) Vortragende: Prof. Dr. med. Anja Kroke\, Hochschule Fulda\, F
 achbereich Oecotrophologie Ort: Universität Osnabrück\, Gebäude 01\, H
 örsaal E01\, Kolpingstr. 7 Siehe: https://osnabrueck.scientists4future.or
 g/futtern-for-future-ernaehrung-und-lebensmittelauswahl-im-kontext-von-nac
 hhaltigkeit-und-planetaren-grenzen/
CATEGORIES:#allefürsklima.
URL;VALUE=URI:https://osnabrueck-alternativ.de/veranstaltungen/?mc_id=8516&amp;
 #038;vcal=8516
METHOD:PUBLISH
END:VEVENT
END:VCALENDAR