BEGIN:VCALENDAR
VERSION:2.0
PRODID:spatie/icalendar-generator
DESCRIPTION:Veranstaltungen von Osnabrück Alternativ
X-WR-CALDESC:Veranstaltungen von Osnabrück Alternativ
REFRESH-INTERVAL;VALUE=DURATION:PT1440M
X-PUBLISHED-TTL:PT1440M
BEGIN:VTIMEZONE
TZID:Europe/Berlin
BEGIN:STANDARD
DTSTART:20241027T030000Z
TZOFFSETFROM:+0200
TZOFFSETTO:+0100
END:STANDARD
BEGIN:DAYLIGHT
DTSTART:20250330T020000Z
TZOFFSETFROM:+0100
TZOFFSETTO:+0200
END:DAYLIGHT
END:VTIMEZONE
BEGIN:VTIMEZONE
TZID:UTC
BEGIN:STANDARD
DTSTART:20250728T160537Z
TZOFFSETFROM:+0000
TZOFFSETTO:+0000
END:STANDARD
END:VTIMEZONE
BEGIN:VEVENT
UID:8383-2785
DTSTAMP:20260424T160537Z
SUMMARY:Wahlprogramme auf dem Prüfstand  Diskussion migrationspolitischer 
 Forderungen aus Sicht von Wissenschaft und Praxis
LOCATION:Universität Osnabrück Seminarstrasse 20 Seminarstrasse 20  Osnab
 rück  49074
ORGANIZER;CN=adminwp:MAILTO:klaus.schwietz@gmx.de
DTSTART;TZID=Europe/Berlin:20250210T180000
DTEND;TZID=Europe/Berlin:20250210T200000
X-ALT-DESC;FMTTYPE=TEXT/HTML:Veranstaltungshinweis einer Kooperation des Th
 inkTanks Migrationspolitik: Wahlprogramme auf dem Prüfstand Diskussion mi
 grationspolitischer Forderungen aus Sicht von Wissenschaft und Praxis Wann
 ? Montag\, 10.02.25 18-20 Uhr Wo? Uni Osnabrück\, Seminarstraße 20\, 15/
 E16 Link zum Flyer. Die Veranstaltung dient wunderbar als Vorbereitung fü
 r die Podiumsdiskussion der Diakonie und der Caritas mit den Politiker:inn
 en der jeweiligen Parteien. Der ThinkTank&amp;hellip\;
CATEGORIES:Veranstaltung
URL;VALUE=URI:https://osnabrueck-alternativ.de/veranstaltungen/?mc_id=8383&amp;
 #038;vcal=8383
METHOD:PUBLISH
END:VEVENT
END:VCALENDAR