BEGIN:VCALENDAR
VERSION:2.0
PRODID:spatie/icalendar-generator
DESCRIPTION:Veranstaltungen von Osnabrück Alternativ
X-WR-CALDESC:Veranstaltungen von Osnabrück Alternativ
REFRESH-INTERVAL;VALUE=DURATION:PT1440M
X-PUBLISHED-TTL:PT1440M
BEGIN:VTIMEZONE
TZID:Europe/Berlin
BEGIN:STANDARD
DTSTART:20241027T030000Z
TZOFFSETFROM:+0200
TZOFFSETTO:+0100
END:STANDARD
BEGIN:DAYLIGHT
DTSTART:20250330T020000Z
TZOFFSETFROM:+0100
TZOFFSETTO:+0200
END:DAYLIGHT
END:VTIMEZONE
BEGIN:VTIMEZONE
TZID:UTC
BEGIN:STANDARD
DTSTART:20250725T100023Z
TZOFFSETFROM:+0000
TZOFFSETTO:+0000
END:STANDARD
END:VTIMEZONE
BEGIN:VEVENT
UID:8312-2773
DTSTAMP:20260421T100023Z
SUMMARY:Losbasierte Bürgerräte: Riesen-Chance oder das große Bla-bla?
LOCATION:Lagerhalle Spitzboden Rolandsmauer 26  Osnabrück  49074
ORGANIZER;CN=adminwp:MAILTO:klaus.schwietz@gmx.de
DTSTART;TZID=Europe/Berlin:20250116T190000
DTEND;TZID=Europe/Berlin:20250116T210000
X-ALT-DESC;FMTTYPE=TEXT/HTML:Neujahrstreffen von \"Mehr Demokratie\" in Osn
 abrück. Mehr Infos siehe: https://osnabrueck-alternativ.de/wp-content/upl
 oads/2025/01/241128_Postkarte_Mehr_Demokratie.pdf
CATEGORIES:Veranstaltung
URL;VALUE=URI:https://osnabrueck-alternativ.de/veranstaltungen/?mc_id=8312&amp;
 #038;vcal=8312
METHOD:PUBLISH
END:VEVENT
END:VCALENDAR