BEGIN:VCALENDAR
VERSION:2.0
PRODID:spatie/icalendar-generator
DESCRIPTION:Veranstaltungen von Osnabrück Alternativ
X-WR-CALDESC:Veranstaltungen von Osnabrück Alternativ
REFRESH-INTERVAL;VALUE=DURATION:PT1440M
X-PUBLISHED-TTL:PT1440M
BEGIN:VTIMEZONE
TZID:Europe/Berlin
BEGIN:DAYLIGHT
DTSTART:20240331T020000Z
TZOFFSETFROM:+0100
TZOFFSETTO:+0200
END:DAYLIGHT
BEGIN:STANDARD
DTSTART:20241027T030000Z
TZOFFSETFROM:+0200
TZOFFSETTO:+0100
END:STANDARD
BEGIN:DAYLIGHT
DTSTART:20250330T020000Z
TZOFFSETFROM:+0100
TZOFFSETTO:+0200
END:DAYLIGHT
END:VTIMEZONE
BEGIN:VTIMEZONE
TZID:UTC
BEGIN:STANDARD
DTSTART:20250723T155048Z
TZOFFSETFROM:+0000
TZOFFSETTO:+0000
END:STANDARD
END:VTIMEZONE
BEGIN:VEVENT
UID:8309-2770
DTSTAMP:20260419T155048Z
SUMMARY:Training der Letzten Generation am 15.12. in Osnabrück
LOCATION:
ORGANIZER;CN=adminwp:MAILTO:klaus.schwietz@gmx.de
DTSTART;TZID=Europe/Berlin:20241215T110000
DTEND;TZID=Europe/Berlin:20241215T140000
X-ALT-DESC;FMTTYPE=TEXT/HTML:Friedlicher ziviler Ungehorsam will aber train
 iert sein - und nur informierte Aktivist:innen treffen gute Entscheidungen
 \, sodass effektiver\, zielgerichteter Protest wirkt! -? Deswegen trainier
 en wir Menschen\, die sich dem Widerstand anschließen wollen. Unser näch
 stes Training findet am 15.12.\, ab 11 Uhr statt. Der Ort wird den angemel
 deten Teilnehmern bekannt gegeben :) Da lernt man kennen: Strukturen&amp;helli
 p\;
CATEGORIES:#allefürsklima.
URL;VALUE=URI:https://osnabrueck-alternativ.de/veranstaltungen/?mc_id=8309&amp;
 #038;vcal=8309
METHOD:PUBLISH
END:VEVENT
END:VCALENDAR