BEGIN:VCALENDAR
VERSION:2.0
PRODID:spatie/icalendar-generator
DESCRIPTION:Veranstaltungen von Osnabrück Alternativ
X-WR-CALDESC:Veranstaltungen von Osnabrück Alternativ
REFRESH-INTERVAL;VALUE=DURATION:PT1440M
X-PUBLISHED-TTL:PT1440M
BEGIN:VTIMEZONE
TZID:Europe/Berlin
BEGIN:STANDARD
DTSTART:20241027T030000Z
TZOFFSETFROM:+0200
TZOFFSETTO:+0100
END:STANDARD
BEGIN:DAYLIGHT
DTSTART:20250330T020000Z
TZOFFSETFROM:+0100
TZOFFSETTO:+0200
END:DAYLIGHT
END:VTIMEZONE
BEGIN:VTIMEZONE
TZID:UTC
BEGIN:STANDARD
DTSTART:20250725T193211Z
TZOFFSETFROM:+0000
TZOFFSETTO:+0000
END:STANDARD
END:VTIMEZONE
BEGIN:VEVENT
UID:8301-2763
DTSTAMP:20260421T193211Z
SUMMARY:11. Vortragsreihe\, Scientists4Future\, Wintersemester 2024: Stadtn
 atur im Fokus: Das Staatsversagen angesichts der Klimakatastrophe
LOCATION:Universität Osnabrück - Kolpingstrasse Kolpingstrasse 7  Osnabr
 ück  49074
ORGANIZER;CN=adminwp:MAILTO:klaus.schwietz@gmx.de
DTSTART;TZID=Europe/Berlin:20250205T183000
DTEND;TZID=Europe/Berlin:20250205T203000
X-ALT-DESC;FMTTYPE=TEXT/HTML:Zeit: 05. Februar 19: 00 (Einlass ab 18:30) Or
 t: Universität Osnabrück\, Gebäude 01\, Hörsaal E01\, Kolpingstr. 7 Vo
 rtragendre: Prof. Dr. iur. Thomas Groß\, Universität Osnabrück\, Fachbe
 reich Rechtswissenschaften\, European Legal Studies Institute (ELSI) Homep
 age der Vortragsreihe\, Livestream\, Videos: https://osnabrueck.scientists
 4future.org/klimawandel-und-klimaschutz/ Handzettel: https://osnabrueck-al
 ternativ.de/wp-content/uploads/2024/10/Handzettel_S4F_Vortragsreihe_WS-24-
 25_A5_druck.pdf Link zur Veranstaltung: https://osnabrueck.scientists4futu
 re.org/das-staatsversagen-angesichts-der-klimakatastrophe/
CATEGORIES:#allefürsklima.
URL;VALUE=URI:https://osnabrueck-alternativ.de/veranstaltungen/?mc_id=8301&amp;
 #038;vcal=8301
METHOD:PUBLISH
END:VEVENT
END:VCALENDAR