BEGIN:VCALENDAR
VERSION:2.0
PRODID:spatie/icalendar-generator
DESCRIPTION:Veranstaltungen von Osnabrück Alternativ
X-WR-CALDESC:Veranstaltungen von Osnabrück Alternativ
REFRESH-INTERVAL;VALUE=DURATION:PT1440M
X-PUBLISHED-TTL:PT1440M
BEGIN:VTIMEZONE
TZID:Europe/Berlin
BEGIN:STANDARD
DTSTART:20241027T030000Z
TZOFFSETFROM:+0200
TZOFFSETTO:+0100
END:STANDARD
BEGIN:DAYLIGHT
DTSTART:20250330T020000Z
TZOFFSETFROM:+0100
TZOFFSETTO:+0200
END:DAYLIGHT
END:VTIMEZONE
BEGIN:VTIMEZONE
TZID:UTC
BEGIN:STANDARD
DTSTART:20250724T014920Z
TZOFFSETFROM:+0000
TZOFFSETTO:+0000
END:STANDARD
END:VTIMEZONE
BEGIN:VEVENT
UID:8299-2761
DTSTAMP:20260420T014920Z
SUMMARY:11. Vortragsreihe\, Scientists4Future\, Wintersemester 2024: Carbon
  capture and storage: CO2 aus der Luft binden
LOCATION:Universität Osnabrück - Kolpingstrasse Kolpingstrasse 7  Osnabr
 ück  49074
ORGANIZER;CN=adminwp:MAILTO:klaus.schwietz@gmx.de
DTSTART;TZID=Europe/Berlin:20250108T183000
DTEND;TZID=Europe/Berlin:20250108T203000
X-ALT-DESC;FMTTYPE=TEXT/HTML:Zeit: 08. Januar 19: 00 (Einlass ab 18:30) Ort
 : Universität Osnabrück\, Gebäude 01\, Hörsaal E01\, Kolpingstr. 7 Vor
 tragende: PD Dr. rer. nat. habil. Carola Meyer\, Universität Osnabrück\,
  Institut für Physik Homepage der Vortragsreihe\, Livestream\, Videos: ht
 tps://osnabrueck.scientists4future.org/klimawandel-und-klimaschutz/ Handze
 ttel: https://osnabrueck-alternativ.de/wp-content/uploads/2024/10/Handzett
 el_S4F_Vortragsreihe_WS-24-25_A5_druck.pdf Link zur Veranstaltung: https:/
 /osnabrueck.scientists4future.org/carbon-capture-and-storage-co2-aus-der-l
 uft-binden/
CATEGORIES:#allefürsklima.
URL;VALUE=URI:https://osnabrueck-alternativ.de/veranstaltungen/?mc_id=8299&amp;
 #038;vcal=8299
METHOD:PUBLISH
END:VEVENT
END:VCALENDAR