BEGIN:VCALENDAR
VERSION:2.0
PRODID:spatie/icalendar-generator
DESCRIPTION:Veranstaltungen von Osnabrück Alternativ
X-WR-CALDESC:Veranstaltungen von Osnabrück Alternativ
REFRESH-INTERVAL;VALUE=DURATION:PT1440M
X-PUBLISHED-TTL:PT1440M
BEGIN:VTIMEZONE
TZID:Europe/Berlin
BEGIN:DAYLIGHT
DTSTART:20240331T020000Z
TZOFFSETFROM:+0100
TZOFFSETTO:+0200
END:DAYLIGHT
BEGIN:STANDARD
DTSTART:20241027T030000Z
TZOFFSETFROM:+0200
TZOFFSETTO:+0100
END:STANDARD
BEGIN:DAYLIGHT
DTSTART:20250330T020000Z
TZOFFSETFROM:+0100
TZOFFSETTO:+0200
END:DAYLIGHT
END:VTIMEZONE
BEGIN:VTIMEZONE
TZID:UTC
BEGIN:STANDARD
DTSTART:20250726T120257Z
TZOFFSETFROM:+0000
TZOFFSETTO:+0000
END:STANDARD
END:VTIMEZONE
BEGIN:VEVENT
UID:8297-2759
DTSTAMP:20260422T120257Z
SUMMARY:11. Vortragsreihe\, Scientists4Future\, Wintersemester 2024: Ist da
 s Müll oder kann das weg? Von der Wegwerfgesellschaft zur Reparaturgesell
 schaft
LOCATION:Universität Osnabrück - Kolpingstrasse Kolpingstrasse 7  Osnabr
 ück  49074
ORGANIZER;CN=adminwp:MAILTO:klaus.schwietz@gmx.de
DTSTART;TZID=Europe/Berlin:20241127T183000
DTEND;TZID=Europe/Berlin:20241127T203000
X-ALT-DESC;FMTTYPE=TEXT/HTML:Zeit: 27. November\, 19: 00 (Einlass ab 18:30)
  Ort: Universität Osnabrück\, Gebäude 01\, Hörsaal E01\, Kolpingstr. 7
  Vortragende: Dipl. Soz. Wolfgang Timm\, Berater Betriebliches Gesundheits
 management &amp;amp\; Dr. rer. nat Roger Dietrich\, Sustainability and Process
  Coach SysProCon Homepage der Vortragsreihe\, Livestream\, Videos: https:/
 /osnabrueck.scientists4future.org/klimawandel-und-klimaschutz/ Handzettel:
  https://osnabrueck-alternativ.de/wp-content/uploads/2024/10/Handzettel_S4
 F_Vortragsreihe_WS-24-25_A5_druck.pdf Link zur Veranstaltung: https://osna
 brueck.scientists4future.org/ist-das-muell-oder-kann-das-weg-von-der-wegwe
 rfgesellschaft-zur-reparaturgesellschaft/
CATEGORIES:#allefürsklima.
URL;VALUE=URI:https://osnabrueck-alternativ.de/veranstaltungen/?mc_id=8297&amp;
 #038;vcal=8297
METHOD:PUBLISH
END:VEVENT
END:VCALENDAR