BEGIN:VCALENDAR
VERSION:2.0
PRODID:spatie/icalendar-generator
DESCRIPTION:Veranstaltungen von Osnabrück Alternativ
X-WR-CALDESC:Veranstaltungen von Osnabrück Alternativ
REFRESH-INTERVAL;VALUE=DURATION:PT1440M
X-PUBLISHED-TTL:PT1440M
BEGIN:VTIMEZONE
TZID:Europe/Berlin
BEGIN:DAYLIGHT
DTSTART:20240331T020000Z
TZOFFSETFROM:+0100
TZOFFSETTO:+0200
END:DAYLIGHT
BEGIN:STANDARD
DTSTART:20241027T030000Z
TZOFFSETFROM:+0200
TZOFFSETTO:+0100
END:STANDARD
BEGIN:DAYLIGHT
DTSTART:20250330T020000Z
TZOFFSETFROM:+0100
TZOFFSETTO:+0200
END:DAYLIGHT
END:VTIMEZONE
BEGIN:VTIMEZONE
TZID:UTC
BEGIN:STANDARD
DTSTART:20250728T075348Z
TZOFFSETFROM:+0000
TZOFFSETTO:+0000
END:STANDARD
END:VTIMEZONE
BEGIN:VEVENT
UID:8230-2743
DTSTAMP:20260424T075348Z
SUMMARY:Veganes Mitbringtreffen im K.A.F.F.
LOCATION:K.A.F.F. – Das K. am fantastischen Freihafen Am Speicher 3a  Osn
 abrück  49090
ORGANIZER;CN=adminwp:MAILTO:klaus.schwietz@gmx.de
RRULE:FREQ=MONTHLY;BYDAY=1SU;UNTIL=20251207T000000Z
DTSTART;TZID=Europe/Berlin:20241201T180000
DTEND;TZID=Europe/Berlin:20241201T200000
X-ALT-DESC;FMTTYPE=TEXT/HTML:Sei dabei beim veganen Mitbringtreffen im K.A.
 F.F. an jedem 1. Sonntag im Monat um 18 Uhr. Das Konzept: Jede*r bringt et
 was Veganes für das Buffet mit und kann dann von allen Speisen essen. Lec
 kere Getränke können dort sehr güngstig erworben werden  Neulinge brau
 chen gar keine Bedenken haben\, in irgendeiner festeingefahrenen Gruppe zu
  landen. Wir sind&amp;hellip\;
CATEGORIES:Gruppentermin
URL;VALUE=URI:https://osnabrueck-alternativ.de/veranstaltungen/?mc_id=8230&amp;
 #038;vcal=8230
METHOD:PUBLISH
END:VEVENT
END:VCALENDAR