BEGIN:VCALENDAR
VERSION:2.0
PRODID:spatie/icalendar-generator
DESCRIPTION:Veranstaltungen von Osnabrück Alternativ
X-WR-CALDESC:Veranstaltungen von Osnabrück Alternativ
REFRESH-INTERVAL;VALUE=DURATION:PT1440M
X-PUBLISHED-TTL:PT1440M
BEGIN:VTIMEZONE
TZID:Europe/Berlin
BEGIN:STANDARD
DTSTART:20231029T030000Z
TZOFFSETFROM:+0200
TZOFFSETTO:+0100
END:STANDARD
BEGIN:DAYLIGHT
DTSTART:20240331T020000Z
TZOFFSETFROM:+0100
TZOFFSETTO:+0200
END:DAYLIGHT
END:VTIMEZONE
BEGIN:VTIMEZONE
TZID:UTC
BEGIN:STANDARD
DTSTART:20250728T163823Z
TZOFFSETFROM:+0000
TZOFFSETTO:+0000
END:STANDARD
END:VTIMEZONE
BEGIN:VEVENT
UID:7666-2618
DTSTAMP:20260424T163823Z
SUMMARY:AM SAMSTAG (03.02.) VERANSTALTET DIE AFD EINEN VON ZWEI PARTEITAGEN
  IN OSNABRÜCK
LOCATION:Sporthalle Quebecallee Quebecallee 25  Osnabrück  49090
ORGANIZER;CN=adminwp:MAILTO:klaus.schwietz@gmx.de
DTSTART;TZID=Europe/Berlin:20240203T093000
DTEND;TZID=Europe/Berlin:20240203T140000
X-ALT-DESC;FMTTYPE=TEXT/HTML:Wieder einmal schmieden die Pläne. In der Spo
 rthalle im Landwehrviertel (Quebecallee) zwischen 10 und 14 Uhr. Das wied
 erholt sich am 17.02. genauso. Ab 09:30 Uhr werden Menschen an der Sportha
 lle sein. Die Gelegenheit\, vor Ort zu verweilen\, bietet die Möglichkeit
 \, weitere Aktivitäten zu besprechen und sich für den nächsten Parteita
 g am 17.02. zu verabreden. Schilder können&amp;hellip\;
CATEGORIES:Veranstaltung
URL;VALUE=URI:https://osnabrueck-alternativ.de/veranstaltungen/?mc_id=7666&amp;
 #038;vcal=7666
METHOD:PUBLISH
END:VEVENT
END:VCALENDAR