BEGIN:VCALENDAR
VERSION:2.0
PRODID:spatie/icalendar-generator
DESCRIPTION:Veranstaltungen von Osnabrück Alternativ
X-WR-CALDESC:Veranstaltungen von Osnabrück Alternativ
REFRESH-INTERVAL;VALUE=DURATION:PT1440M
X-PUBLISHED-TTL:PT1440M
BEGIN:VTIMEZONE
TZID:Europe/Berlin
BEGIN:DAYLIGHT
DTSTART:20230326T020000Z
TZOFFSETFROM:+0100
TZOFFSETTO:+0200
END:DAYLIGHT
BEGIN:STANDARD
DTSTART:20231029T030000Z
TZOFFSETFROM:+0200
TZOFFSETTO:+0100
END:STANDARD
END:VTIMEZONE
BEGIN:VTIMEZONE
TZID:UTC
BEGIN:STANDARD
DTSTART:20250727T094947Z
TZOFFSETFROM:+0000
TZOFFSETTO:+0000
END:STANDARD
END:VTIMEZONE
BEGIN:VEVENT
UID:7470-2519
DTSTAMP:20260423T094947Z
SUMMARY:Workshop mit dem Künstler William A. Wilson
LOCATION:
ORGANIZER;CN=adminwp:MAILTO:klaus.schwietz@gmx.de
DTSTART;TZID=Europe/Berlin:20230806T100000
DTEND;TZID=Europe/Berlin:20230806T120000
X-ALT-DESC;FMTTYPE=TEXT/HTML:Workshop mit William A. Wilson 6. August 10-12
  Uhr\, Kath. FABI\, Große Rosenstr. 16\, Osnabrück Der Künstler bringt 
 uns in diesem Workshop eine von ihm vielfach genutzte Technik näher – d
 ie Erstellung von Collagen. Die Teilnehmenden sind eingeladen\, entweder p
 ersönliche Geschichten\, Sprichwörter\, eine Erzählung oder (zeit)gesch
 ichtliche Ereignisse in ihren Collagen zu illustrieren. Welches Thema ausg
 ewählt&amp;hellip\;
CATEGORIES:Veranstaltung
URL;VALUE=URI:https://osnabrueck-alternativ.de/veranstaltungen/?mc_id=7470&amp;
 #038;vcal=7470
METHOD:PUBLISH
END:VEVENT
END:VCALENDAR