BEGIN:VCALENDAR
VERSION:2.0
PRODID:spatie/icalendar-generator
DESCRIPTION:Veranstaltungen von Osnabrück Alternativ
X-WR-CALDESC:Veranstaltungen von Osnabrück Alternativ
REFRESH-INTERVAL;VALUE=DURATION:PT1440M
X-PUBLISHED-TTL:PT1440M
BEGIN:VTIMEZONE
TZID:Europe/Berlin
BEGIN:STANDARD
DTSTART:20221030T030000Z
TZOFFSETFROM:+0200
TZOFFSETTO:+0100
END:STANDARD
BEGIN:DAYLIGHT
DTSTART:20230326T020000Z
TZOFFSETFROM:+0100
TZOFFSETTO:+0200
END:DAYLIGHT
BEGIN:STANDARD
DTSTART:20231029T030000Z
TZOFFSETFROM:+0200
TZOFFSETTO:+0100
END:STANDARD
END:VTIMEZONE
BEGIN:VTIMEZONE
TZID:UTC
BEGIN:STANDARD
DTSTART:20250723T120118Z
TZOFFSETFROM:+0000
TZOFFSETTO:+0000
END:STANDARD
END:VTIMEZONE
BEGIN:VEVENT
UID:7462-2512
DTSTAMP:20260419T120118Z
SUMMARY:Solidarität gegen das EU Grenzregime in der Sahara - Alarme Phone 
 Sahara Infotour
LOCATION:EW-Gebäude - Raum E16 Seminarstr. 15  Osnabrück
ORGANIZER;CN=Stefan Wilker:MAILTO:stefan.wilker@gmx.de
DTSTART;TZID=Europe/Berlin:20230623T190000
DTEND;TZID=Europe/Berlin:20230623T213000
X-ALT-DESC;FMTTYPE=TEXT/HTML:Mit Moctar Nalossou aus Agadez\, Niger 23.06.2
 023 | 19:00h | Universität Osnabrück: EW-Gebäude\, Raum E16\, Seminarst
 raße 15\, Osnabrück Die Grenzen\, die die europäischen Staaten gegen Mi
 grant*innen und Flüchtende hochziehen\, verlaufen längst weit außerhalb
  der EU-Außengrenzen\, u.a. durch viele Länder auf dem afrikanischen Kon
 tinent. Das repressive Grenzregime schafft lebensgefährliche Bedingungen 
 und lässt Menschen nicht nur im&amp;hellip\;
CATEGORIES:Veranstaltung
URL;VALUE=URI:https://osnabrueck-alternativ.de/veranstaltungen/?mc_id=7462&amp;
 #038;vcal=7462
METHOD:PUBLISH
END:VEVENT
END:VCALENDAR