BEGIN:VCALENDAR
VERSION:2.0
PRODID:spatie/icalendar-generator
DESCRIPTION:Veranstaltungen von Osnabrück Alternativ
X-WR-CALDESC:Veranstaltungen von Osnabrück Alternativ
REFRESH-INTERVAL;VALUE=DURATION:PT1440M
X-PUBLISHED-TTL:PT1440M
BEGIN:VTIMEZONE
TZID:Europe/Berlin
BEGIN:STANDARD
DTSTART:20221030T030000Z
TZOFFSETFROM:+0200
TZOFFSETTO:+0100
END:STANDARD
BEGIN:DAYLIGHT
DTSTART:20230326T020000Z
TZOFFSETFROM:+0100
TZOFFSETTO:+0200
END:DAYLIGHT
BEGIN:STANDARD
DTSTART:20231029T030000Z
TZOFFSETFROM:+0200
TZOFFSETTO:+0100
END:STANDARD
END:VTIMEZONE
BEGIN:VTIMEZONE
TZID:UTC
BEGIN:STANDARD
DTSTART:20250725T084933Z
TZOFFSETFROM:+0000
TZOFFSETTO:+0000
END:STANDARD
END:VTIMEZONE
BEGIN:VEVENT
UID:7452-2502
DTSTAMP:20260421T084933Z
SUMMARY:Ride of Silence - Gedenkfahrt für tödlich verunglückte Fahrradfa
 hrer*innen
LOCATION:
ORGANIZER;CN=adminwp:MAILTO:klaus.schwietz@gmx.de
DTSTART;TZID=Europe/Berlin:20230517T190000
DTEND;TZID=Europe/Berlin:20230517T210000
X-ALT-DESC;FMTTYPE=TEXT/HTML:Mi. 17.05.2023 19:00 Uhr Platz des 17. Juni\, 
 am neuen Graben 18 km\, * Tour\, * Steigung Verkehrsgruppe des ADFC Osnabr
 ück Ride of Silence - Gedenkfahrt für tödlich verunglückte Fahrradfahr
 er*innen Bei unserer stillen Gedenkfahrt wird an die tödlich verunglückt
 en 'Radfahrer und Radfahrerinnen gedacht. Die 18 km lange Strecke führt i
 n langsamen Tempo und mit Stopps&amp;hellip\;
CATEGORIES:Veranstaltung
URL;VALUE=URI:https://osnabrueck-alternativ.de/veranstaltungen/?mc_id=7452&amp;
 #038;vcal=7452
METHOD:PUBLISH
END:VEVENT
END:VCALENDAR