BEGIN:VCALENDAR
VERSION:2.0
PRODID:spatie/icalendar-generator
DESCRIPTION:Veranstaltungen von Osnabrück Alternativ
X-WR-CALDESC:Veranstaltungen von Osnabrück Alternativ
REFRESH-INTERVAL;VALUE=DURATION:PT1440M
X-PUBLISHED-TTL:PT1440M
BEGIN:VTIMEZONE
TZID:Europe/Berlin
BEGIN:STANDARD
DTSTART:20221030T030000Z
TZOFFSETFROM:+0200
TZOFFSETTO:+0100
END:STANDARD
BEGIN:DAYLIGHT
DTSTART:20230326T020000Z
TZOFFSETFROM:+0100
TZOFFSETTO:+0200
END:DAYLIGHT
END:VTIMEZONE
BEGIN:VTIMEZONE
TZID:UTC
BEGIN:STANDARD
DTSTART:20250723T212040Z
TZOFFSETFROM:+0000
TZOFFSETTO:+0000
END:STANDARD
END:VTIMEZONE
BEGIN:VEVENT
UID:7287-2434
DTSTAMP:20260419T212040Z
SUMMARY:Feministischer Streik 23: „CARE REVOLUTION ALS KLIMAGERECHTIGKEIT
 SPOLITIK“ MIT GABRIELE WINKER
LOCATION:
ORGANIZER;CN=adminwp:MAILTO:klaus.schwietz@gmx.de
DTSTART;TZID=Europe/Berlin:20230228T180000
DTEND;TZID=Europe/Berlin:20230228T200000
X-ALT-DESC;FMTTYPE=TEXT/HTML:Die Zerstörung sozialer Beziehungen\, die Kli
 makatastrophe und die weltweiten Kriege um Ressourcen gefährden die mensc
 hlichen Lebensgrundlagen. Eine Alternative zum wachstums-und profitorienti
 erten Wirtschaften ist überlebensnotwendig. Gabriele Winker setzt sich mi
 t der Strategie der Care Revolution für eine solidarische Care-Ökonomie 
 ein\, die sich an gelingenden Sorgebeziehungen und der Belastbarkeit der 
 Ökosysteme orientiert. all gender Veranstaltende: Bloody Maries&amp;hellip\;
CATEGORIES:Veranstaltung
URL;VALUE=URI:https://osnabrueck-alternativ.de/veranstaltungen/?mc_id=7287&amp;
 #038;vcal=7287
METHOD:PUBLISH
END:VEVENT
END:VCALENDAR