BEGIN:VCALENDAR
VERSION:2.0
PRODID:spatie/icalendar-generator
DESCRIPTION:Veranstaltungen von Osnabrück Alternativ
X-WR-CALDESC:Veranstaltungen von Osnabrück Alternativ
REFRESH-INTERVAL;VALUE=DURATION:PT1440M
X-PUBLISHED-TTL:PT1440M
BEGIN:VTIMEZONE
TZID:Europe/Berlin
BEGIN:DAYLIGHT
DTSTART:20230326T020000Z
TZOFFSETFROM:+0100
TZOFFSETTO:+0200
END:DAYLIGHT
BEGIN:STANDARD
DTSTART:20231029T030000Z
TZOFFSETFROM:+0200
TZOFFSETTO:+0100
END:STANDARD
END:VTIMEZONE
BEGIN:VTIMEZONE
TZID:UTC
BEGIN:STANDARD
DTSTART:20250726T103101Z
TZOFFSETFROM:+0000
TZOFFSETTO:+0000
END:STANDARD
END:VTIMEZONE
BEGIN:VEVENT
UID:7269-2428
DTSTAMP:20260422T103101Z
SUMMARY:Veganer Mitbringtreff
LOCATION:SubstAnz Frankenstr. 25a  Osnabrück
ORGANIZER;CN=adminwp:MAILTO:klaus.schwietz@gmx.de
DTSTART;TZID=Europe/Berlin:20230730T180000
DTEND;TZID=Europe/Berlin:20230730T200000
X-ALT-DESC;FMTTYPE=TEXT/HTML:immer am letzten Sonntag im Monat um 18 Uhr im
  SubstAnZ\, Frankenstr. 25a\, Osnabrück Sei dabei beim veganen Mitbringtr
 effen im SubstAnZ Osnabrück ! Das Konzept: Jede*r bringt etwas Veganes f
 ür das Buffet mit und kann dann von allen Speisen essen. Leckere Getränk
 e können dort sehr güngstig erworben werden Wir haben zwar die Möglichk
 eit\, Essen warm&amp;hellip\;
CATEGORIES:Gruppentermin
URL;VALUE=URI:https://osnabrueck-alternativ.de/veranstaltungen/?mc_id=7269&amp;
 #038;vcal=7269
METHOD:PUBLISH
END:VEVENT
END:VCALENDAR