BEGIN:VCALENDAR
VERSION:2.0
PRODID:spatie/icalendar-generator
DESCRIPTION:Veranstaltungen von Osnabrück Alternativ
X-WR-CALDESC:Veranstaltungen von Osnabrück Alternativ
REFRESH-INTERVAL;VALUE=DURATION:PT1440M
X-PUBLISHED-TTL:PT1440M
BEGIN:VTIMEZONE
TZID:Europe/Berlin
BEGIN:DAYLIGHT
DTSTART:20220327T020000Z
TZOFFSETFROM:+0100
TZOFFSETTO:+0200
END:DAYLIGHT
BEGIN:STANDARD
DTSTART:20221030T030000Z
TZOFFSETFROM:+0200
TZOFFSETTO:+0100
END:STANDARD
BEGIN:DAYLIGHT
DTSTART:20230326T020000Z
TZOFFSETFROM:+0100
TZOFFSETTO:+0200
END:DAYLIGHT
END:VTIMEZONE
BEGIN:VTIMEZONE
TZID:UTC
BEGIN:STANDARD
DTSTART:20250725T113304Z
TZOFFSETFROM:+0000
TZOFFSETTO:+0000
END:STANDARD
END:VTIMEZONE
BEGIN:VEVENT
UID:6955-2366
DTSTAMP:20260421T113304Z
SUMMARY:Wahlhearing zur Landtagswahl
LOCATION:Friedenskirche Klöntrupstrasse 6  Osnabrück  49082
ORGANIZER;CN=adminwp:MAILTO:klaus.schwietz@gmx.de
DTSTART;TZID=Europe/Berlin:20220928T193000
DTEND;TZID=Europe/Berlin:20220928T210000
X-ALT-DESC;FMTTYPE=TEXT/HTML:Wahlhearing zu Klimaschutz und Energiewende am
  Mittwoch 28.09.22 um 19:30 Uhr\, Friedenskirche\, Klöntrupstr. 6\, Osnab
 rück Es nehmen teil die Landtagskandidat*innen - Frank Henning\, SPD - Vo
 lker Bajus\, B90/Die Grünen - Verena Kämmerling\, CDU - Jella Flemming\,
  Die Linke - Nemir Ali\, FDP (angefragt) - Christoph Kühn\, Volt (angefra
 gt) Moderation: Dorothea Lesemann (OS-klimaneutral)\, Klaus Kuhnke (Solare
 nergieverein&amp;hellip\;
CATEGORIES:#allefürsklima.
URL;VALUE=URI:https://osnabrueck-alternativ.de/veranstaltungen/?mc_id=6955&amp;
 #038;vcal=6955
METHOD:PUBLISH
END:VEVENT
END:VCALENDAR