BEGIN:VCALENDAR
VERSION:2.0
PRODID:spatie/icalendar-generator
DESCRIPTION:Veranstaltungen von Osnabrück Alternativ
X-WR-CALDESC:Veranstaltungen von Osnabrück Alternativ
REFRESH-INTERVAL;VALUE=DURATION:PT1440M
X-PUBLISHED-TTL:PT1440M
BEGIN:VTIMEZONE
TZID:Europe/Berlin
BEGIN:DAYLIGHT
DTSTART:20210328T020000Z
TZOFFSETFROM:+0100
TZOFFSETTO:+0200
END:DAYLIGHT
BEGIN:STANDARD
DTSTART:20211031T030000Z
TZOFFSETFROM:+0200
TZOFFSETTO:+0100
END:STANDARD
END:VTIMEZONE
BEGIN:VTIMEZONE
TZID:UTC
BEGIN:STANDARD
DTSTART:20250727T034135Z
TZOFFSETFROM:+0000
TZOFFSETTO:+0000
END:STANDARD
END:VTIMEZONE
BEGIN:VEVENT
UID:6005-2180
DTSTAMP:20260423T034135Z
SUMMARY:\"Radtour für Alle\" - Fahrraddemo zum Parking Day
LOCATION:Rathaus  Markt  Osnabrück
ORGANIZER;CN=adminwp:MAILTO:klaus.schwietz@gmx.de
DTSTART;TZID=Europe/Berlin:20210917T160000
DTEND;TZID=Europe/Berlin:20210917T180000
X-ALT-DESC;FMTTYPE=TEXT/HTML:Der Radentscheid Osnabrück lädt am kommenden
  Freitag (17. September) im Rahmen der Europäischen Mobilitätswoche zu e
 iner Fahrraddemo für bessere Bedingungen für den Radverkehr ein. Treffpu
 nkt ist um 16 Uhr auf dem Marktplatz vor dem Rathaus. Auf Fahrrädern geht
  es dann auf einer vorher festgelegten Route durch Osnabrück. Zielpunkt s
 ind die Parkplätze vor der caffewerkstatt an&amp;hellip\;
CATEGORIES:#allefürsklima.
URL;VALUE=URI:https://osnabrueck-alternativ.de/veranstaltungen/?mc_id=6005&amp;
 #038;vcal=6005
METHOD:PUBLISH
END:VEVENT
END:VCALENDAR