BEGIN:VCALENDAR
VERSION:2.0
PRODID:spatie/icalendar-generator
DESCRIPTION:Veranstaltungen von Osnabrück Alternativ
X-WR-CALDESC:Veranstaltungen von Osnabrück Alternativ
REFRESH-INTERVAL;VALUE=DURATION:PT1440M
X-PUBLISHED-TTL:PT1440M
BEGIN:VTIMEZONE
TZID:Europe/Berlin
BEGIN:DAYLIGHT
DTSTART:20210328T020000Z
TZOFFSETFROM:+0100
TZOFFSETTO:+0200
END:DAYLIGHT
BEGIN:STANDARD
DTSTART:20211031T030000Z
TZOFFSETFROM:+0200
TZOFFSETTO:+0100
END:STANDARD
END:VTIMEZONE
BEGIN:VTIMEZONE
TZID:UTC
BEGIN:STANDARD
DTSTART:20250728T223749Z
TZOFFSETFROM:+0000
TZOFFSETTO:+0000
END:STANDARD
END:VTIMEZONE
BEGIN:VEVENT
UID:5947-2126
DTSTAMP:20260424T223749Z
SUMMARY:Gemeinsame Agrarpolitik - Wie schaffen wir die Agrarwende?
LOCATION:K.A.F.F. Am Speicher 3a  Osnabrück  49090
ORGANIZER;CN=adminwp:MAILTO:klaus.schwietz@gmx.de
DTSTART;TZID=Europe/Berlin:20210722T180000
DTEND;TZID=Europe/Berlin:20210722T193000
X-ALT-DESC;FMTTYPE=TEXT/HTML:&amp;nbsp\; Gemeinsame Agrarpolitik: Wie schaffen 
 wir die Agrarwende? Möglichkeiten und verpasste Chancen auf europäischer
  Ebene Podiumsdiskussion mit Staatssekretär Prof. Dr. Ludwig Theuvsen Sta
 atssekretär im Niedersächsischen Ministerium für Ernährung\, Landwirts
 chaft und Verbraucherschutz\, zwischen 2002 und 2018 Professor für Betrie
 bswirtschaftslehre des Agribusiness an der Georg-August-Universität Gött
 ingen Dirk Westrup Dirk Westrup ist seit Juni 2021 Vorsitzender des Kreisl
 andvolkverband&amp;hellip\;
CATEGORIES:Veranstaltung
URL;VALUE=URI:https://osnabrueck-alternativ.de/veranstaltungen/?mc_id=5947&amp;
 #038;vcal=5947
METHOD:PUBLISH
END:VEVENT
END:VCALENDAR