BEGIN:VCALENDAR
VERSION:2.0
PRODID:spatie/icalendar-generator
DESCRIPTION:Veranstaltungen von Osnabrück Alternativ
X-WR-CALDESC:Veranstaltungen von Osnabrück Alternativ
REFRESH-INTERVAL;VALUE=DURATION:PT1440M
X-PUBLISHED-TTL:PT1440M
BEGIN:VTIMEZONE
TZID:Europe/Berlin
BEGIN:STANDARD
DTSTART:20201025T030000Z
TZOFFSETFROM:+0200
TZOFFSETTO:+0100
END:STANDARD
BEGIN:DAYLIGHT
DTSTART:20210328T020000Z
TZOFFSETFROM:+0100
TZOFFSETTO:+0200
END:DAYLIGHT
END:VTIMEZONE
BEGIN:VTIMEZONE
TZID:UTC
BEGIN:STANDARD
DTSTART:20250726T041856Z
TZOFFSETFROM:+0000
TZOFFSETTO:+0000
END:STANDARD
END:VTIMEZONE
BEGIN:VEVENT
UID:5884-2076
DTSTAMP:20260422T041856Z
SUMMARY:Nach Fukushima ... Renaissance der Atomkraft?  Einladung zur Online
 -Konferenz mit Günter Herrmeyer am Freitag den 12. März um 18 Uhr
LOCATION:
ORGANIZER;CN=adminwp:MAILTO:klaus.schwietz@gmx.de
DTSTART;TZID=Europe/Berlin:20210312T180000
DTEND;TZID=Europe/Berlin:20210312T193000
X-ALT-DESC;FMTTYPE=TEXT/HTML:Am 11. März jährt sich die Atomkatastrophe v
 on Fukushima zum 10. Mal. Diese brachte großes Unglück für die Menschen
  in der Region. Die Umgebung wurde verseucht und viele mussten dauerhaft e
 vakuiert werden. Eingeladen wurde Günter Herrmeyer\, welcher uns erkläre
 n wird\, wie der aktuelle Stand in Fukushima ist und welche Probleme dort 
 nach wie vor bestehen.&amp;hellip\;
CATEGORIES:Online - keine Präsenzveranstaltung
URL;VALUE=URI:https://osnabrueck-alternativ.de/veranstaltungen/?mc_id=5884&amp;
 #038;vcal=5884
METHOD:PUBLISH
END:VEVENT
END:VCALENDAR