BEGIN:VCALENDAR
VERSION:2.0
PRODID:spatie/icalendar-generator
DESCRIPTION:Veranstaltungen von Osnabrück Alternativ
X-WR-CALDESC:Veranstaltungen von Osnabrück Alternativ
REFRESH-INTERVAL;VALUE=DURATION:PT1440M
X-PUBLISHED-TTL:PT1440M
BEGIN:VTIMEZONE
TZID:Europe/Berlin
BEGIN:DAYLIGHT
DTSTART:20200329T020000Z
TZOFFSETFROM:+0100
TZOFFSETTO:+0200
END:DAYLIGHT
BEGIN:STANDARD
DTSTART:20201025T030000Z
TZOFFSETFROM:+0200
TZOFFSETTO:+0100
END:STANDARD
BEGIN:DAYLIGHT
DTSTART:20210328T020000Z
TZOFFSETFROM:+0100
TZOFFSETTO:+0200
END:DAYLIGHT
END:VTIMEZONE
BEGIN:VTIMEZONE
TZID:UTC
BEGIN:STANDARD
DTSTART:20250723T155146Z
TZOFFSETFROM:+0000
TZOFFSETTO:+0000
END:STANDARD
END:VTIMEZONE
BEGIN:VEVENT
UID:5826-2026
DTSTAMP:20260419T155146Z
SUMMARY:Aufruf zur Demonstration gegen Polizeigewalt
LOCATION:Ledenhof Ledenhof  Osnabrück  49074
ORGANIZER;CN=adminwp:MAILTO:klaus.schwietz@gmx.de
DTSTART;TZID=Europe/Berlin:20201107T163000
DTEND;TZID=Europe/Berlin:20201107T183000
X-ALT-DESC;FMTTYPE=TEXT/HTML:Folgenden Aufruf haben wir kurzfristig erhalte
 n: \"Liebe NetzwerkerInnen\, vor zwei Wochen am 23.10. wurde in der Redlin
 ger Straße ein Jugendlicher von der Polizei unverhältnismäßig und gewa
 lttätig behandelt. Nachdem er und sein Freund sich bei einer polizeiliche
 n Maßnahme gegen einen 12-Jähigen eingemischt hatten\, war die Konfliktl
 ösungsstrategie der Polizei ihn für diese Gräueltat erst einmal auf dem
 &amp;hellip\;
CATEGORIES:Veranstaltung
URL;VALUE=URI:https://osnabrueck-alternativ.de/veranstaltungen/?mc_id=5826&amp;
 #038;vcal=5826
METHOD:PUBLISH
END:VEVENT
END:VCALENDAR