BEGIN:VCALENDAR
VERSION:2.0
PRODID:spatie/icalendar-generator
DESCRIPTION:Veranstaltungen von Osnabrück Alternativ
X-WR-CALDESC:Veranstaltungen von Osnabrück Alternativ
REFRESH-INTERVAL;VALUE=DURATION:PT1440M
X-PUBLISHED-TTL:PT1440M
BEGIN:VTIMEZONE
TZID:Europe/Berlin
BEGIN:DAYLIGHT
DTSTART:20200329T020000Z
TZOFFSETFROM:+0100
TZOFFSETTO:+0200
END:DAYLIGHT
BEGIN:STANDARD
DTSTART:20201025T030000Z
TZOFFSETFROM:+0200
TZOFFSETTO:+0100
END:STANDARD
BEGIN:DAYLIGHT
DTSTART:20210328T020000Z
TZOFFSETFROM:+0100
TZOFFSETTO:+0200
END:DAYLIGHT
END:VTIMEZONE
BEGIN:VTIMEZONE
TZID:UTC
BEGIN:STANDARD
DTSTART:20250727T235545Z
TZOFFSETFROM:+0000
TZOFFSETTO:+0000
END:STANDARD
END:VTIMEZONE
BEGIN:VEVENT
UID:5802-2007
DTSTAMP:20260423T235545Z
SUMMARY:Wirtschaft verkehrt - Gemeinwohl-Ökonomie als Chance ?
LOCATION:Volkshochschule Bergstrasse Bergstrasse 8  Osnabrück  49076
ORGANIZER;CN=adminwp:MAILTO:klaus.schwietz@gmx.de
DTSTART;TZID=Europe/Berlin:20201029T193000
DTEND;TZID=Europe/Berlin:20201029T210000
X-ALT-DESC;FMTTYPE=TEXT/HTML:29.10.2020\, 19.30 Uhr VHS\, Bergstr. 8\, Vor
 tragssaal\, Dachgeschoss Veranstalter: Gemeinwohl-Ökonomie - Regionalgrup
 pe Osnabrücker Land in Kooperation mit der VHS Osnabrück Der Eintritt is
 t frei. Information und Anmeldung : 0541/323-2243 oder info@vhs-os.de Ein
 e Anmeldung in der VHS ist notwendig! In den letzten Monaten wird das Unbe
 hagen über unsere Zukunftsaussichten in breiten Teilen der Bevölkerung i
 mmer deutlicher. Das Bewusstsein&amp;hellip\;
CATEGORIES:Veranstaltung
URL;VALUE=URI:https://osnabrueck-alternativ.de/veranstaltungen/?mc_id=5802&amp;
 #038;vcal=5802
METHOD:PUBLISH
END:VEVENT
END:VCALENDAR