BEGIN:VCALENDAR
VERSION:2.0
PRODID:spatie/icalendar-generator
DESCRIPTION:Veranstaltungen von Osnabrück Alternativ
X-WR-CALDESC:Veranstaltungen von Osnabrück Alternativ
REFRESH-INTERVAL;VALUE=DURATION:PT1440M
X-PUBLISHED-TTL:PT1440M
BEGIN:VTIMEZONE
TZID:Europe/Berlin
BEGIN:DAYLIGHT
DTSTART:20200329T020000Z
TZOFFSETFROM:+0100
TZOFFSETTO:+0200
END:DAYLIGHT
BEGIN:STANDARD
DTSTART:20201025T030000Z
TZOFFSETFROM:+0200
TZOFFSETTO:+0100
END:STANDARD
BEGIN:DAYLIGHT
DTSTART:20210328T020000Z
TZOFFSETFROM:+0100
TZOFFSETTO:+0200
END:DAYLIGHT
END:VTIMEZONE
BEGIN:VTIMEZONE
TZID:UTC
BEGIN:STANDARD
DTSTART:20250728T001101Z
TZOFFSETFROM:+0000
TZOFFSETTO:+0000
END:STANDARD
END:VTIMEZONE
BEGIN:VEVENT
UID:5795-2003
DTSTAMP:20260424T001101Z
SUMMARY:Extinction Rebellion XR - offenes Treffen / Plenum
LOCATION:Haus der Jugend Große Gildewart 6-9  Osnabrück  49074
ORGANIZER;CN=adminwp:MAILTO:klaus.schwietz@gmx.de
RRULE:FREQ=WEEKLY;COUNT=3
DTSTART;TZID=Europe/Berlin:20201005T183000
DTEND;TZID=Europe/Berlin:20201005T200000
X-ALT-DESC;FMTTYPE=TEXT/HTML:Offenes Treffen / Plenum Montag den 05.10.2020
 \, 12.10.2020\, 19.10. Und 26.10.2020 jeweils um 18.00 Uhr\, Turmstraße 2
 3 statt. Extinction Rebellion (XR) macht mit friedlichem Ungehorsam auf de
 n drohenden Klimakollaps und das massive Artensterben aufmerksam. Jeder is
 t herzlich willkommen. Die Ortsgruppe Osnabrück ist eine bunte und offene
  Gruppe und freut sich über neue Rebellen(innen) die Spass&amp;hellip\;
CATEGORIES:Gruppentermin
URL;VALUE=URI:https://osnabrueck-alternativ.de/veranstaltungen/?mc_id=5795&amp;
 #038;vcal=5795
METHOD:PUBLISH
END:VEVENT
END:VCALENDAR