BEGIN:VCALENDAR
VERSION:2.0
PRODID:spatie/icalendar-generator
DESCRIPTION:Veranstaltungen von Osnabrück Alternativ
X-WR-CALDESC:Veranstaltungen von Osnabrück Alternativ
REFRESH-INTERVAL;VALUE=DURATION:PT1440M
X-PUBLISHED-TTL:PT1440M
BEGIN:VTIMEZONE
TZID:Europe/Berlin
BEGIN:STANDARD
DTSTART:20191027T030000Z
TZOFFSETFROM:+0200
TZOFFSETTO:+0100
END:STANDARD
BEGIN:DAYLIGHT
DTSTART:20200329T020000Z
TZOFFSETFROM:+0100
TZOFFSETTO:+0200
END:DAYLIGHT
END:VTIMEZONE
BEGIN:VTIMEZONE
TZID:UTC
BEGIN:STANDARD
DTSTART:20250728T020737Z
TZOFFSETFROM:+0000
TZOFFSETTO:+0000
END:STANDARD
END:VTIMEZONE
BEGIN:VEVENT
UID:5516-1921
DTSTAMP:20260424T020737Z
SUMMARY:A33 aus Sicht des Klimaschutzes
LOCATION:
ORGANIZER;CN=adminwp:MAILTO:klaus.schwietz@gmx.de
DTSTART;TZID=Europe/Berlin:20200227T183000
DTEND;TZID=Europe/Berlin:20200227T203000
X-ALT-DESC;FMTTYPE=TEXT/HTML:Belm/Wallenhorst - Wie ist der geplante Bau de
 r A 33 zwischen Belm und Wallenhorst aus Sicht des Klimaschutzes zu bewert
 en und welche Möglichkeiten der Einflussnahme bestehen über den Bundesha
 ushalt? Zu diesen Fragen nimmt der haushaltspolitische Sprecher der grüne
 n Bundestagsfraktion\, Sven-Christian Kindler aus Hannover\, am 27. Februa
 r 2020 Stellung. Hierzu laden die GRÜNEN aus Belm und&amp;hellip\;
CATEGORIES:#allefürsklima.
URL;VALUE=URI:https://osnabrueck-alternativ.de/veranstaltungen/?mc_id=5516&amp;
 #038;vcal=5516
METHOD:PUBLISH
END:VEVENT
END:VCALENDAR