BEGIN:VCALENDAR
VERSION:2.0
PRODID:spatie/icalendar-generator
DESCRIPTION:Veranstaltungen von Osnabrück Alternativ
X-WR-CALDESC:Veranstaltungen von Osnabrück Alternativ
REFRESH-INTERVAL;VALUE=DURATION:PT1440M
X-PUBLISHED-TTL:PT1440M
BEGIN:VTIMEZONE
TZID:Europe/Berlin
BEGIN:STANDARD
DTSTART:20191027T030000Z
TZOFFSETFROM:+0200
TZOFFSETTO:+0100
END:STANDARD
BEGIN:DAYLIGHT
DTSTART:20200329T020000Z
TZOFFSETFROM:+0100
TZOFFSETTO:+0200
END:DAYLIGHT
END:VTIMEZONE
BEGIN:VTIMEZONE
TZID:UTC
BEGIN:STANDARD
DTSTART:20250724T091601Z
TZOFFSETFROM:+0000
TZOFFSETTO:+0000
END:STANDARD
END:VTIMEZONE
BEGIN:VEVENT
UID:5467-1873
DTSTAMP:20260420T091601Z
SUMMARY:Treffen der Osnabrücker Friedensinitiative im Februar 2020
LOCATION:Gaststätte Grüner Jäger (Klause) An der Katharinenkirche 1  Osn
 abrück  49074
ORGANIZER;CN=adminwp:MAILTO:klaus.schwietz@gmx.de
DTSTART;TZID=Europe/Berlin:20200224T170000
DTEND;TZID=Europe/Berlin:20200224T183000
X-ALT-DESC;FMTTYPE=TEXT/HTML:Datum: Montag\, den 24. Februar 2020 Zeit: 17.
 00 Uhr\,     Dauer: 1 1/2 Stunden Ort: Klause\, Gaststätte Grüner J
 äger\, An der Katharinenkirche\, Osnabrück Themen: Planung Ostermarsch 2
 020 und aktuelle Diskussionen
CATEGORIES:Gruppentermin
URL;VALUE=URI:https://osnabrueck-alternativ.de/veranstaltungen/?mc_id=5467&amp;
 #038;vcal=5467
METHOD:PUBLISH
END:VEVENT
END:VCALENDAR