BEGIN:VCALENDAR
VERSION:2.0
PRODID:spatie/icalendar-generator
DESCRIPTION:Veranstaltungen von Osnabrück Alternativ
X-WR-CALDESC:Veranstaltungen von Osnabrück Alternativ
REFRESH-INTERVAL;VALUE=DURATION:PT1440M
X-PUBLISHED-TTL:PT1440M
BEGIN:VTIMEZONE
TZID:Europe/Berlin
BEGIN:DAYLIGHT
DTSTART:20190331T020000Z
TZOFFSETFROM:+0100
TZOFFSETTO:+0200
END:DAYLIGHT
BEGIN:STANDARD
DTSTART:20191027T030000Z
TZOFFSETFROM:+0200
TZOFFSETTO:+0100
END:STANDARD
BEGIN:DAYLIGHT
DTSTART:20200329T020000Z
TZOFFSETFROM:+0100
TZOFFSETTO:+0200
END:DAYLIGHT
END:VTIMEZONE
BEGIN:VTIMEZONE
TZID:UTC
BEGIN:STANDARD
DTSTART:20250728T025344Z
TZOFFSETFROM:+0000
TZOFFSETTO:+0000
END:STANDARD
END:VTIMEZONE
BEGIN:VEVENT
UID:5348-1802
DTSTAMP:20260424T025344Z
SUMMARY:Idil Atak (Ryerson University\, Kanada): Sanctuary City Policies in
  Canada: Barriers to Implementation (Vortrag in englischer Sprache)
LOCATION:
ORGANIZER;CN=adminwp:MAILTO:klaus.schwietz@gmx.de
DTSTART;TZID=Europe/Berlin:20191111T180000
DTEND;TZID=Europe/Berlin:20191111T200000
X-ALT-DESC;FMTTYPE=TEXT/HTML:Gastvortrag\, Montag 11.11.2019\, 18-20 Uhr Os
 nabrück\, Universität\, Neuer Graben 19/21\, IMIS-Veranstaltungsraum 03/
 226 Idil Atak (Ryerson University\, Kanada): Sanctuary City Policies in Ca
 nada: Barriers to Implementation (Vortrag in englischer Sprache) Die kanad
 ische Wissenschaftlerin Idil Atak diskutiert die Herausforderungen für di
 e 'Sanctuary Cities' in Kanada . Zur Person: Idil Atak is an associate pro
 fessor in the Department&amp;hellip\;
CATEGORIES:Veranstaltung
URL;VALUE=URI:https://osnabrueck-alternativ.de/veranstaltungen/?mc_id=5348&amp;
 #038;vcal=5348
METHOD:PUBLISH
END:VEVENT
END:VCALENDAR