BEGIN:VCALENDAR
VERSION:2.0
PRODID:spatie/icalendar-generator
DESCRIPTION:Veranstaltungen von Osnabrück Alternativ
X-WR-CALDESC:Veranstaltungen von Osnabrück Alternativ
REFRESH-INTERVAL;VALUE=DURATION:PT1440M
X-PUBLISHED-TTL:PT1440M
BEGIN:VTIMEZONE
TZID:Europe/Berlin
BEGIN:DAYLIGHT
DTSTART:20190331T020000Z
TZOFFSETFROM:+0100
TZOFFSETTO:+0200
END:DAYLIGHT
BEGIN:STANDARD
DTSTART:20191027T030000Z
TZOFFSETFROM:+0200
TZOFFSETTO:+0100
END:STANDARD
BEGIN:DAYLIGHT
DTSTART:20200329T020000Z
TZOFFSETFROM:+0100
TZOFFSETTO:+0200
END:DAYLIGHT
END:VTIMEZONE
BEGIN:VTIMEZONE
TZID:UTC
BEGIN:STANDARD
DTSTART:20250725T170401Z
TZOFFSETFROM:+0000
TZOFFSETTO:+0000
END:STANDARD
END:VTIMEZONE
BEGIN:VEVENT
UID:5291-1766
DTSTAMP:20260421T170401Z
SUMMARY:Sonne\, Wind und Energiewende – wohin?
LOCATION:Lagerhalle Rolandsmauer 26  Osnabrück  49074
ORGANIZER;CN=adminwp:MAILTO:klaus.schwietz@gmx.de
DTSTART;TZID=Europe/Berlin:20191107T193000
DTEND;TZID=Europe/Berlin:20191107T210000
X-ALT-DESC;FMTTYPE=TEXT/HTML:Do\, 7.11.\, 19:30 h Lagerhalle\, Rolandsmaue
 r 26\, OS\, Raum 207 Alle reden von Klimaschutz\, aber die Energiewende st
 ockt. Wo stehen wir heute\, warum geht es nicht voran\, und worauf müsse
 n wir uns noch einstellen? Vortrag von Klaus Kuhnke\, o.k. und SEV.
CATEGORIES:#allefürsklima.
URL;VALUE=URI:https://osnabrueck-alternativ.de/veranstaltungen/?mc_id=5291&amp;
 #038;vcal=5291
METHOD:PUBLISH
END:VEVENT
END:VCALENDAR