BEGIN:VCALENDAR
VERSION:2.0
PRODID:spatie/icalendar-generator
DESCRIPTION:Veranstaltungen von Osnabrück Alternativ
X-WR-CALDESC:Veranstaltungen von Osnabrück Alternativ
REFRESH-INTERVAL;VALUE=DURATION:PT1440M
X-PUBLISHED-TTL:PT1440M
BEGIN:VTIMEZONE
TZID:Europe/Berlin
BEGIN:DAYLIGHT
DTSTART:20190331T020000Z
TZOFFSETFROM:+0100
TZOFFSETTO:+0200
END:DAYLIGHT
BEGIN:STANDARD
DTSTART:20191027T030000Z
TZOFFSETFROM:+0200
TZOFFSETTO:+0100
END:STANDARD
END:VTIMEZONE
BEGIN:VTIMEZONE
TZID:UTC
BEGIN:STANDARD
DTSTART:20250723T144542Z
TZOFFSETFROM:+0000
TZOFFSETTO:+0000
END:STANDARD
END:VTIMEZONE
BEGIN:VEVENT
UID:5165-1678
DTSTAMP:20260419T144542Z
SUMMARY:Nachdenkseiten Gesprächskreis
LOCATION:Lagerhalle Rolandsmauer 26  Osnabrück  49074
ORGANIZER;CN=adminwp:MAILTO:klaus.schwietz@gmx.de
DTSTART;TZID=Europe/Berlin:20190829T193000
DTEND;TZID=Europe/Berlin:20190829T210000
X-ALT-DESC;FMTTYPE=TEXT/HTML:Liebe NDS-Leser*Innen und Interessierte\, am 
 Donnerstag\, den 29.08.2019 findet der nächste NDS-Gesprächkreis statt
 . Wir treffen uns um 19:30 Uhr in der Lagerhalle in Osnabrück\, in de
 r Gastronomie. Ich freue mich auf eure/ihre Teilnahme und eine interessan
 te Diskussion. Zur \"Einstimmung\" empfehle ich die Lektüre der NachDenk
 Seiten zu dem imperialen Agieren der US-Administration\, zu dem absurden 
 Klamauk der SPD um den Parteivorsitz\, zum Versagen der Politik beim&amp;helli
 p\;
CATEGORIES:Veranstaltung
URL;VALUE=URI:https://osnabrueck-alternativ.de/veranstaltungen/?mc_id=5165&amp;
 #038;vcal=5165
METHOD:PUBLISH
END:VEVENT
END:VCALENDAR