BEGIN:VCALENDAR
VERSION:2.0
PRODID:spatie/icalendar-generator
DESCRIPTION:Veranstaltungen von Osnabrück Alternativ
X-WR-CALDESC:Veranstaltungen von Osnabrück Alternativ
REFRESH-INTERVAL;VALUE=DURATION:PT1440M
X-PUBLISHED-TTL:PT1440M
BEGIN:VTIMEZONE
TZID:Europe/Berlin
BEGIN:STANDARD
DTSTART:20181028T030000Z
TZOFFSETFROM:+0200
TZOFFSETTO:+0100
END:STANDARD
BEGIN:DAYLIGHT
DTSTART:20190331T020000Z
TZOFFSETFROM:+0100
TZOFFSETTO:+0200
END:DAYLIGHT
BEGIN:STANDARD
DTSTART:20191027T030000Z
TZOFFSETFROM:+0200
TZOFFSETTO:+0100
END:STANDARD
END:VTIMEZONE
BEGIN:VTIMEZONE
TZID:UTC
BEGIN:STANDARD
DTSTART:20250729T010826Z
TZOFFSETFROM:+0000
TZOFFSETTO:+0000
END:STANDARD
END:VTIMEZONE
BEGIN:VEVENT
UID:5147-1660
DTSTAMP:20260425T010826Z
SUMMARY:„Von Rechtspopulismus getrieben – von Willkommenskultur getrage
 n. Deutschland auf der Suche nach Routine als Migrationsgesellschaft“
LOCATION:
ORGANIZER;CN=adminwp:MAILTO:klaus.schwietz@gmx.de
DTSTART;TZID=Europe/Berlin:20190612T180000
DTEND;TZID=Europe/Berlin:20190612T200000
X-ALT-DESC;FMTTYPE=TEXT/HTML:Am Mittwoch\, 12. Juni 2019 um 18.00 Uhr hält
  Dr. Thorsten Heese im Graf-Stauffenberg-Gymnasium Osnabrück im Rahmen de
 r Ausstellung „Faces of Migration“ den Vortrag „Von Rechtspopulismus
  getrieben – von Willkommenskultur getragen. Deutschland auf der Suche n
 ach Routine als Migrationsgesellschaft“ Der Eintritt ist kostenlos. Der 
 Vortrag betrachtet die gesellschaftliche Entwicklung der vergangenen Jahre
  um die angebliche&amp;hellip\;
CATEGORIES:Veranstaltung
URL;VALUE=URI:https://osnabrueck-alternativ.de/veranstaltungen/?mc_id=5147&amp;
 #038;vcal=5147
METHOD:PUBLISH
END:VEVENT
END:VCALENDAR