BEGIN:VCALENDAR
VERSION:2.0
PRODID:spatie/icalendar-generator
DESCRIPTION:Veranstaltungen von Osnabrück Alternativ
X-WR-CALDESC:Veranstaltungen von Osnabrück Alternativ
REFRESH-INTERVAL;VALUE=DURATION:PT1440M
X-PUBLISHED-TTL:PT1440M
BEGIN:VTIMEZONE
TZID:Europe/Berlin
BEGIN:STANDARD
DTSTART:20241027T030000Z
TZOFFSETFROM:+0200
TZOFFSETTO:+0100
END:STANDARD
BEGIN:DAYLIGHT
DTSTART:20250330T020000Z
TZOFFSETFROM:+0100
TZOFFSETTO:+0200
END:DAYLIGHT
BEGIN:STANDARD
DTSTART:20251026T030000Z
TZOFFSETFROM:+0200
TZOFFSETTO:+0100
END:STANDARD
END:VTIMEZONE
BEGIN:VTIMEZONE
TZID:UTC
BEGIN:STANDARD
DTSTART:20250723T130815Z
TZOFFSETFROM:+0000
TZOFFSETTO:+0000
END:STANDARD
END:VTIMEZONE
BEGIN:VEVENT
UID:7830-2709
DTSTAMP:20260419T130815Z
SUMMARY:Treffen: „Queer Refugees and Friends – Osnabrück“
LOCATION:
ORGANIZER;CN=adminwp:MAILTO:klaus.schwietz@gmx.de
RRULE:FREQ=MONTHLY;BYDAY=1WE;UNTIL=20251231T000000Z
DTSTART;TZID=Europe/Berlin:20250604T190000
DTEND;TZID=Europe/Berlin:20250604T210000
X-ALT-DESC;FMTTYPE=TEXT/HTML:Queer Refugees\, Migrants &amp;amp\; Friends – O
 snabrück Support für queere Geflüchtete\, Asylsuchende und Migrant*inne
 n in und um Osnabrück. Wir bieten Geflüchteten\, Asylsuchenden und Migra
 nt*innen Kontakt zu anderen LGBTIQ*s\, Unterstützung\, Infos\, … Wir m
 öchten die Sichtbarkeit von LSBTIQ* Geflüchteten und Migrant*innen erhö
 hen und eine Sensibilisierung für die spezifischen Herausforderungen für
  queere Geflüchtete und Migrant*innen erreichen Regelmäßige&amp;hellip\;
CATEGORIES:Gruppentermin
URL;VALUE=URI:https://osnabrueck-alternativ.de/veranstaltungen/?cid=mc-eebc
 9a21598585f5d8bea2ab08144d58&#038;mc_id=7830&#038;vcal=7830
METHOD:PUBLISH
END:VEVENT
END:VCALENDAR