BEGIN:VCALENDAR
VERSION:2.0
PRODID:spatie/icalendar-generator
DESCRIPTION:Veranstaltungen von Osnabrück Alternativ
X-WR-CALDESC:Veranstaltungen von Osnabrück Alternativ
REFRESH-INTERVAL;VALUE=DURATION:PT1440M
X-PUBLISHED-TTL:PT1440M
BEGIN:VTIMEZONE
TZID:Europe/Berlin
BEGIN:STANDARD
DTSTART:20231029T030000Z
TZOFFSETFROM:+0200
TZOFFSETTO:+0100
END:STANDARD
BEGIN:DAYLIGHT
DTSTART:20240331T020000Z
TZOFFSETFROM:+0100
TZOFFSETTO:+0200
END:DAYLIGHT
BEGIN:STANDARD
DTSTART:20241027T030000Z
TZOFFSETFROM:+0200
TZOFFSETTO:+0100
END:STANDARD
END:VTIMEZONE
BEGIN:VTIMEZONE
TZID:UTC
BEGIN:STANDARD
DTSTART:20250725T170723Z
TZOFFSETFROM:+0000
TZOFFSETTO:+0000
END:STANDARD
END:VTIMEZONE
BEGIN:VEVENT
UID:7696-2646
DTSTAMP:20260421T170723Z
SUMMARY:10. Scientists For Future Vortragsreihe \"Klima- und Biodiversität
  in der Krise\": Heute: \"Klimaschutz durch nachhaltige Gewerbegebiete?\"
LOCATION:Hörsaal 01/E01\, Kolpingstrasse 7 Kolpingstr. 7  Osnabrück  4907
 4
ORGANIZER;CN=adminwp:MAILTO:klaus.schwietz@gmx.de
DTSTART;TZID=Europe/Berlin:20240515T190000
DTEND;TZID=Europe/Berlin:20240515T210000
X-ALT-DESC;FMTTYPE=TEXT/HTML:Sommersemester Scientists For Future: https://
 osnabrueck.scientists4future.org/klimawandel-und-klimaschutz/ Klimaschutz 
 durch nachhaltige Gewerbegebiete? 15.05.: Klimaschutz durch nachhaltige Ge
 werbegebiete? apl. Prof. Dr. Kim Philip Schumacher\, Universität Osnabru?
 ck\, Institut fu?r Geographie Livestream &amp;nbsp\;
CATEGORIES:#allefürsklima.
URL;VALUE=URI:https://osnabrueck-alternativ.de/veranstaltungen/?cid=mc-eebc
 9a21598585f5d8bea2ab08144d58&#038;mc_id=7696&#038;vcal=7696
METHOD:PUBLISH
END:VEVENT
END:VCALENDAR