BEGIN:VCALENDAR
VERSION:2.0
PRODID:spatie/icalendar-generator
DESCRIPTION:Veranstaltungen von Osnabrück Alternativ
X-WR-CALDESC:Veranstaltungen von Osnabrück Alternativ
REFRESH-INTERVAL;VALUE=DURATION:PT1440M
X-PUBLISHED-TTL:PT1440M
BEGIN:VTIMEZONE
TZID:Europe/Berlin
BEGIN:STANDARD
DTSTART:20231029T030000Z
TZOFFSETFROM:+0200
TZOFFSETTO:+0100
END:STANDARD
BEGIN:DAYLIGHT
DTSTART:20240331T020000Z
TZOFFSETFROM:+0100
TZOFFSETTO:+0200
END:DAYLIGHT
END:VTIMEZONE
BEGIN:VTIMEZONE
TZID:UTC
BEGIN:STANDARD
DTSTART:20250725T085248Z
TZOFFSETFROM:+0000
TZOFFSETTO:+0000
END:STANDARD
END:VTIMEZONE
BEGIN:VEVENT
UID:7674-2626
DTSTAMP:20260421T085248Z
SUMMARY:KLIMASTREIK AM 01.03. #WIRFAHRENZUSAMMEN VON FRIDAYSFORFUTURE OSNAB
 RÜCK
LOCATION:Theatervorplatz Osnabrück Domhof  Osnabrück
ORGANIZER;CN=adminwp:MAILTO:klaus.schwietz@gmx.de
DTSTART;TZID=Europe/Berlin:20240301T133000
DTEND;TZID=Europe/Berlin:20240301T150000
X-ALT-DESC;FMTTYPE=TEXT/HTML:FridaysForFuture Osnabrück ruft am Freitag\, 
 den 01.03. zur Demonstration #wirfahrenzusmen in Osnabrück auf\, während
  am gleichen Tag ver.di zusammen mit den Beschäftigten des TV-N durch ein
 en Warnstreik die Metro-Linien und Nachtbusse lahmlegen wird. Die Kampagne
  #wirfahrenzusammen ist dabei ein bundesweites Bündnisprojekt der Gewerks
 chaft ver.di und der Klimagerechtigkeitsbewegung FridaysForFuture. Gemeins
 am kämpfen wir für eine sozialgerechte Mobilitätswende&amp;hellip\;
CATEGORIES:#allefürsklima.
URL;VALUE=URI:https://osnabrueck-alternativ.de/veranstaltungen/?cid=mc-eebc
 9a21598585f5d8bea2ab08144d58&#038;mc_id=7674&#038;vcal=7674
METHOD:PUBLISH
END:VEVENT
END:VCALENDAR